BEGIN:VCALENDAR
VERSION:2.0
PRODID:-//Business of Counselling - ECPv6.15.13.1//NONSGML v1.0//EN
CALSCALE:GREGORIAN
METHOD:PUBLISH
X-ORIGINAL-URL:https://www.businessofcounselling.com
X-WR-CALDESC:Events for Business of Counselling
REFRESH-INTERVAL;VALUE=DURATION:PT1H
X-Robots-Tag:noindex
X-PUBLISHED-TTL:PT1H
BEGIN:VTIMEZONE
TZID:UTC
BEGIN:STANDARD
TZOFFSETFROM:+0000
TZOFFSETTO:+0000
TZNAME:UTC
DTSTART:20190101T000000
END:STANDARD
END:VTIMEZONE
BEGIN:VEVENT
DTSTART;TZID=UTC:20220910T090000
DTEND;TZID=UTC:20220910T173000
DTSTAMP:20260421T130509
CREATED:20220301T152536Z
LAST-MODIFIED:20220301T152536Z
UID:2466-1662800400-1662831000@www.businessofcounselling.com
SUMMARY:Private Practice Bootcamp – The Business & Marketing of Your Private Practice
DESCRIPTION:Private Practice Bootcamp is a one-day online workshop that will kick start your private practice. Whether you’re just starting out or have been established for some time\, we’ll help you become more confident and comfortable with building and running your business. \nFor more information click here
URL:https://www.businessofcounselling.com/event/private-practice-bootcamp-the-business-marketing-of-your-private-practice-4/
LOCATION:Online Workshop (Zoom)
END:VEVENT
BEGIN:VEVENT
DTSTART;TZID=UTC:20220703T090000
DTEND;TZID=UTC:20220703T173000
DTSTAMP:20260421T130509
CREATED:20220301T152340Z
LAST-MODIFIED:20220301T152432Z
UID:2464-1656838800-1656869400@www.businessofcounselling.com
SUMMARY:Private Practice Bootcamp – The Business & Marketing of Your Private Practice
DESCRIPTION:Private Practice Bootcamp is a one-day online workshop that will kick start your private practice. Whether you’re just starting out or have been established for some time\, we’ll help you become more confident and comfortable with building and running your business. \nFor more information click here
URL:https://www.businessofcounselling.com/event/private-practice-bootcamp-the-business-marketing-of-your-private-practice-3/
LOCATION:Online Workshop (Zoom)
END:VEVENT
BEGIN:VEVENT
DTSTART;TZID=UTC:20220129T080000
DTEND;TZID=UTC:20220129T173000
DTSTAMP:20260421T130509
CREATED:20210922T165913Z
LAST-MODIFIED:20210922T165913Z
UID:2070-1643443200-1643477400@www.businessofcounselling.com
SUMMARY:Private Practice Bootcamp – The Business & Marketing of Your Private Practice
DESCRIPTION:Private Practice Bootcamp is a one-day online workshop that will kick start your private practice. Whether you’re just starting out or have been established for some time\, we’ll help you become more confident and comfortable with building and running your business. \nFor more information click here
URL:https://www.businessofcounselling.com/event/private-practice-bootcamp-the-business-marketing-of-your-private-practice-2/
LOCATION:Online Workshop (Zoom)
END:VEVENT
BEGIN:VEVENT
DTSTART;TZID=UTC:20211121T080000
DTEND;TZID=UTC:20211121T173000
DTSTAMP:20260421T130509
CREATED:20210922T165808Z
LAST-MODIFIED:20210922T165808Z
UID:2068-1637481600-1637515800@www.businessofcounselling.com
SUMMARY:Private Practice Bootcamp - The Business & Marketing of Your Private Practice
DESCRIPTION:Private Practice Bootcamp is a one-day online workshop that will kick start your private practice. Whether you’re just starting out or have been established for some time\, we’ll help you become more confident and comfortable with building and running your business. \nFor more information click here
URL:https://www.businessofcounselling.com/event/private-practice-bootcamp-the-business-marketing-of-your-private-practice/
LOCATION:Online Workshop (Zoom)
END:VEVENT
BEGIN:VEVENT
DTSTART;TZID=UTC:20210911T090000
DTEND;TZID=UTC:20210911T173000
DTSTAMP:20260421T130509
CREATED:20210806T113114Z
LAST-MODIFIED:20210806T113114Z
UID:2018-1631350800-1631381400@www.businessofcounselling.com
SUMMARY:Private Practice Bootcamp with Andy & Lindsay
DESCRIPTION:Private Practice Bootcamp is a one-day online workshop that will kick start your private practice. Whether you’re just starting out or have been established for some time\, we’ll help you become more confident and comfortable with building and running your business. \nFor more information click here
URL:https://www.businessofcounselling.com/event/private-practice-bootcamp-with-andy-lindsay/
LOCATION:Online Workshop (Zoom)
END:VEVENT
BEGIN:VEVENT
DTSTART;TZID=UTC:20210528T093000
DTEND;TZID=UTC:20210528T123000
DTSTAMP:20260421T130509
CREATED:20210510T085028Z
LAST-MODIFIED:20210510T085028Z
UID:1978-1622194200-1622205000@www.businessofcounselling.com
SUMMARY:Business Finance & Self Assessment (BC04SA-Z010)
DESCRIPTION:A workshop designed to explain the basics of the finances behind your Private Practice. If you’re worried about paying yourself\, completing your tax return and calculating your tax / NI contributions\, this will guide you through the process. \nFor more information see: Business Finance & Self Assessment (BC04SA)
URL:https://www.businessofcounselling.com/event/business-finance-self-assessment-bc04sa-z010/
LOCATION:Online Workshop (Zoom)
ORGANIZER;CN="Business of Counselling":MAILTO:info@businessofcounselling.com
END:VEVENT
BEGIN:VEVENT
DTSTART;TZID=UTC:20210514T120000
DTEND;TZID=UTC:20210514T150000
DTSTAMP:20260421T130509
CREATED:20210421T135855Z
LAST-MODIFIED:20210421T135855Z
UID:1973-1620993600-1621004400@www.businessofcounselling.com
SUMMARY:Business Finance & Self Assessment (BC04SA-Z009)
DESCRIPTION:A workshop designed to explain the basics of the finances behind your Private Practice. If you’re worried about paying yourself\, completing your tax return and calculating your tax / NI contributions\, this will guide you through the process. \nFor more information see: Business Finance & Self Assessment (BC04SA)
URL:https://www.businessofcounselling.com/event/business-finance-self-assessment-bc04sa-z009/
LOCATION:Online Workshop (Zoom)
ORGANIZER;CN="Business of Counselling":MAILTO:info@businessofcounselling.com
END:VEVENT
BEGIN:VEVENT
DTSTART;TZID=UTC:20210507T083000
DTEND;TZID=UTC:20210507T113000
DTSTAMP:20260421T130509
CREATED:20210421T135737Z
LAST-MODIFIED:20210421T135737Z
UID:1971-1620376200-1620387000@www.businessofcounselling.com
SUMMARY:Business Finance & Self Assessment (BC04SA-Z008)
DESCRIPTION:A workshop designed to explain the basics of the finances behind your Private Practice. If you’re worried about paying yourself\, completing your tax return and calculating your tax / NI contributions\, this will guide you through the process. \nFor more information see: Business Finance & Self Assessment (BC04SA)
URL:https://www.businessofcounselling.com/event/business-finance-self-assessment-bc04sa-z008/
LOCATION:Online Workshop (Zoom)
ORGANIZER;CN="Business of Counselling":MAILTO:info@businessofcounselling.com
END:VEVENT
BEGIN:VEVENT
DTSTART;TZID=UTC:20210416T090000
DTEND;TZID=UTC:20210416T140000
DTSTAMP:20260421T130509
CREATED:20210324T154843Z
LAST-MODIFIED:20210324T155017Z
UID:1964-1618563600-1618581600@www.businessofcounselling.com
SUMMARY:Business of Counselling – A Road Map For Private Practice (BC01BC-Z013)
DESCRIPTION:An online version of our Business of Counselling Workshop. If you’re in the process of setting up your private practice\, or you’re newly established\, this is the workshop for you. Designed to cover all the basics\, you’ll leave feeling confident and inspired. \nFor more information see: Business of Counselling – A Road Map For Private Practice (BC01BC)
URL:https://www.businessofcounselling.com/event/business-of-counselling-a-road-map-for-private-practice-bc01bc-z013/
LOCATION:Online Workshop (Zoom)
ORGANIZER;CN="Business of Counselling":MAILTO:info@businessofcounselling.com
END:VEVENT
BEGIN:VEVENT
DTSTART;TZID=UTC:20210409T083000
DTEND;TZID=UTC:20210409T113000
DTSTAMP:20260421T130509
CREATED:20210324T154544Z
LAST-MODIFIED:20210324T155101Z
UID:1962-1617957000-1617967800@www.businessofcounselling.com
SUMMARY:Business Finance & Self Assessment (BC04SA-Z007)
DESCRIPTION:A workshop designed to explain the basics of the finances behind your Private Practice. If you’re worried about paying yourself\, completing your tax return and calculating your tax / NI contributions\, this will guide you through the process. \nFor more information see: Business Finance & Self Assessment (BC04SA)
URL:https://www.businessofcounselling.com/event/business-finance-self-assessment-bc04sa-z007/
LOCATION:Online Workshop (Zoom)
ORGANIZER;CN="Business of Counselling":MAILTO:info@businessofcounselling.com
END:VEVENT
BEGIN:VEVENT
DTSTART;TZID=UTC:20201023T100000
DTEND;TZID=UTC:20201023T130000
DTSTAMP:20260421T130509
CREATED:20200901T171425Z
LAST-MODIFIED:20201020T101204Z
UID:1882-1603447200-1603458000@www.businessofcounselling.com
SUMMARY:Business Finance & Self Assessment (BC04SA-Z006)
DESCRIPTION:A workshop designed to explain the basics of the finances behind your Private Practice. If you’re worried about paying yourself\, completing your tax return and calculating your tax / NI contributions\, this will guide you through the process. \nFor more information see: Business Finance & Self Assessment (BC04SA) \nThis is the last workshop I’m going to be running this year\, so I’m discounting this to £35.
URL:https://www.businessofcounselling.com/event/business-finance-self-assessment-bc04sa-z006/
LOCATION:Online Workshop (Zoom)
ORGANIZER;CN="Business of Counselling":MAILTO:info@businessofcounselling.com
END:VEVENT
BEGIN:VEVENT
DTSTART;TZID=UTC:20201016T100000
DTEND;TZID=UTC:20201016T150000
DTSTAMP:20260421T130509
CREATED:20200901T171312Z
LAST-MODIFIED:20200901T171312Z
UID:1880-1602842400-1602860400@www.businessofcounselling.com
SUMMARY:Business of Counselling - A Road Map For Private Practice (BC01BC-Z012)
DESCRIPTION:An online version of our Business of Counselling Workshop. If you’re in the process of setting up your private practice\, or you’re newly established\, this is the workshop for you. Designed to cover all the basics\, you’ll leave feeling confident and inspired. \nFor more information see: Business of Counselling – A Road Map For Private Practice (BC01BC)
URL:https://www.businessofcounselling.com/event/business-of-counselling-a-road-map-for-private-practice-bc01bc-z012/
LOCATION:Online Workshop (Zoom)
ORGANIZER;CN="Business of Counselling":MAILTO:info@businessofcounselling.com
END:VEVENT
BEGIN:VEVENT
DTSTART;TZID=UTC:20201009T130000
DTEND;TZID=UTC:20201009T150000
DTSTAMP:20260421T130509
CREATED:20200901T171142Z
LAST-MODIFIED:20200901T171142Z
UID:1878-1602248400-1602255600@www.businessofcounselling.com
SUMMARY:Working For Yourself (BC06WY-Z004)
DESCRIPTION:In this workshop\, we will look at the business essentials required in order to run your business. From business structure through to dealing with HMRC. \nFor more information: Working For Yourself (BC06WY)
URL:https://www.businessofcounselling.com/event/working-for-yourself-bc06wy-z004/
LOCATION:Online Workshop (Zoom)
ORGANIZER;CN="Business of Counselling":MAILTO:info@businessofcounselling.com
END:VEVENT
BEGIN:VEVENT
DTSTART;TZID=UTC:20200929T123000
DTEND;TZID=UTC:20200929T170000
DTSTAMP:20260421T130509
CREATED:20200729T094610Z
LAST-MODIFIED:20200729T094610Z
UID:1841-1601382600-1601398800@www.businessofcounselling.com
SUMMARY:Business of Counselling - A Road Map For Private Practice (BC01BC-Z011)
DESCRIPTION:An online version of our Business of Counselling Workshop. If you’re in the process of setting up your private practice\, or you’re newly established\, this is the workshop for you. Designed to cover all the basics\, you’ll leave feeling confident and inspired. \nFor more information see: Business of Counselling – A Road Map For Private Practice (BC01BC)
URL:https://www.businessofcounselling.com/event/business-of-counselling-a-road-map-for-private-practice-bc01bc-z011/
LOCATION:Online Workshop (Zoom)
ORGANIZER;CN="Business of Counselling":MAILTO:info@businessofcounselling.com
END:VEVENT
BEGIN:VEVENT
DTSTART;TZID=UTC:20200924T150000
DTEND;TZID=UTC:20200924T170000
DTSTAMP:20260421T130509
CREATED:20200901T171029Z
LAST-MODIFIED:20200916T111242Z
UID:1876-1600959600-1600966800@www.businessofcounselling.com
SUMMARY:Working For Yourself (BC06WY-Z003)
DESCRIPTION:In this workshop\, we will look at the business essentials required in order to run your business. From business structure through to dealing with HMRC. \nFor more information: Working For Yourself (BC06WY)
URL:https://www.businessofcounselling.com/event/working-for-yourself-bc06wy-z003/
LOCATION:Online Workshop (Zoom)
ORGANIZER;CN="Business of Counselling":MAILTO:info@businessofcounselling.com
END:VEVENT
BEGIN:VEVENT
DTSTART;TZID=UTC:20200911T130000
DTEND;TZID=UTC:20200911T160000
DTSTAMP:20260421T130509
CREATED:20200729T094435Z
LAST-MODIFIED:20200729T094955Z
UID:1839-1599829200-1599840000@www.businessofcounselling.com
SUMMARY:Business Finance & Self Assessment (BC04SA-Z005)
DESCRIPTION:A workshop designed to explain the basics of the finances behind your Private Practice. If you’re worried about paying yourself\, completing your tax return and calculating your tax / NI contributions\, this will guide you through the process. \nFor more information see: Business Finance & Self Assessment (BC04SA)
URL:https://www.businessofcounselling.com/event/business-finance-self-assessment-bc04sa-z005/
LOCATION:Online Workshop (Zoom)
ORGANIZER;CN="Business of Counselling":MAILTO:info@businessofcounselling.com
END:VEVENT
BEGIN:VEVENT
DTSTART;TZID=UTC:20200903T190000
DTEND;TZID=UTC:20200903T210000
DTSTAMP:20260421T130509
CREATED:20200729T094250Z
LAST-MODIFIED:20200729T094250Z
UID:1837-1599159600-1599166800@www.businessofcounselling.com
SUMMARY:Risk Assessment In Private Practice (BC05RA-Z014)
DESCRIPTION:Understand what a Risk Assessment is and how to effectively carry one out for your private practice. \nMore information: Risk Assessments in Private Practice
URL:https://www.businessofcounselling.com/event/risk-assessment-in-private-practice-bc05ra-z014/
LOCATION:Online Workshop (Zoom)
ORGANIZER;CN="Business of Counselling":MAILTO:info@businessofcounselling.com
END:VEVENT
BEGIN:VEVENT
DTSTART;TZID=UTC:20200901T100000
DTEND;TZID=UTC:20200901T150000
DTSTAMP:20260421T130509
CREATED:20200729T094049Z
LAST-MODIFIED:20200729T094117Z
UID:1834-1598954400-1598972400@www.businessofcounselling.com
SUMMARY:Business of Counselling - A Road Map For Private Practice (BC01VC-Z010)
DESCRIPTION:An online version of our Business of Counselling Workshop. If you’re in the process of setting up your private practice\, or you’re newly established\, this is the workshop for you. Designed to cover all the basics\, you’ll leave feeling confident and inspired. \nFor more information see: Business of Counselling – A Road Map For Private Practice (BC01BC)
URL:https://www.businessofcounselling.com/event/1834/
LOCATION:Online Workshop (Zoom)
ORGANIZER;CN="Business of Counselling":MAILTO:info@businessofcounselling.com
END:VEVENT
BEGIN:VEVENT
DTSTART;TZID=UTC:20200828T100000
DTEND;TZID=UTC:20200828T120000
DTSTAMP:20260421T130509
CREATED:20200729T093923Z
LAST-MODIFIED:20200729T093923Z
UID:1832-1598608800-1598616000@www.businessofcounselling.com
SUMMARY:Working For Yourself (BC06WY-Z002)
DESCRIPTION:In this workshop\, we will look at the business essentials required in order to run your business. From business structure through to dealing with HMRC. \nFor more information: Working For Yourself (BC06WY)
URL:https://www.businessofcounselling.com/event/working-for-yourself-bc06wy-z002/
LOCATION:Online Workshop (Zoom)
ORGANIZER;CN="Business of Counselling":MAILTO:info@businessofcounselling.com
END:VEVENT
BEGIN:VEVENT
DTSTART;TZID=UTC:20200821T130000
DTEND;TZID=UTC:20200821T150000
DTSTAMP:20260421T130509
CREATED:20200708T161817Z
LAST-MODIFIED:20200708T161817Z
UID:1766-1598014800-1598022000@www.businessofcounselling.com
SUMMARY:Risk Assessments in Private Practice (BC05RA-Z013)
DESCRIPTION:Understand what a Risk Assessment is and how to effectively carry one out for your private practice. \nMore information: Risk Assessments in Private Practice
URL:https://www.businessofcounselling.com/event/risk-assessments-in-private-practice-bc05ra-z013/
LOCATION:Online Workshop (Zoom)
ORGANIZER;CN="Business of Counselling":MAILTO:info@businessofcounselling.com
END:VEVENT
BEGIN:VEVENT
DTSTART;TZID=UTC:20200819T123000
DTEND;TZID=UTC:20200819T170000
DTSTAMP:20260421T130509
CREATED:20200722T143953Z
LAST-MODIFIED:20200729T085849Z
UID:1815-1597840200-1597856400@www.businessofcounselling.com
SUMMARY:Business of Counselling - A Road Map for Private Practice (BC01BC-Z009)
DESCRIPTION:An online version of our Business of Counselling Workshop. If you’re in the process of setting up your private practice\, or you’re newly established\, this is the workshop for you. Designed to cover all the basics\, you’ll leave feeling confident and inspired. \nFor more information see: Business of Counselling – A Road Map For Private Practice (BC01BC)
URL:https://www.businessofcounselling.com/event/business-of-counselling-bc01bc-z009/
LOCATION:Online Workshop (Zoom)
ORGANIZER;CN="Business of Counselling":MAILTO:info@businessofcounselling.com
END:VEVENT
BEGIN:VEVENT
DTSTART;TZID=UTC:20200818T140000
DTEND;TZID=UTC:20200818T170000
DTSTAMP:20260421T130509
CREATED:20200722T144406Z
LAST-MODIFIED:20200805T095729Z
UID:1817-1597759200-1597770000@www.businessofcounselling.com
SUMMARY:Business Finance & Self Assessment (BC04SA-Z004)
DESCRIPTION:A workshop designed to explain the basics of the finances behind your Private Practice.  If you’re worried about paying yourself\, completing your tax return and calculating your tax / NI contributions\, this will guide you through the process. \nFor more information see:  Business Finance & Self Assessment (BC04SA)
URL:https://www.businessofcounselling.com/event/business-finance-self-assessment-bc04sa-z004/
LOCATION:Online Workshop (Zoom)
ORGANIZER;CN="Business of Counselling":MAILTO:info@businessofcounselling.com
END:VEVENT
BEGIN:VEVENT
DTSTART;TZID=UTC:20200807T130000
DTEND;TZID=UTC:20200807T150000
DTSTAMP:20260421T130509
CREATED:20200708T161729Z
LAST-MODIFIED:20200708T161729Z
UID:1764-1596805200-1596812400@www.businessofcounselling.com
SUMMARY:Risk Assessments in Private Practice (BC05RA-Z012)
DESCRIPTION:Understand what a Risk Assessment is and how to effectively carry one out for your private practice. \nMore information: Risk Assessments in Private Practice
URL:https://www.businessofcounselling.com/event/risk-assessments-in-private-practice-bc05ra-z012/
LOCATION:Online Workshop (Zoom)
ORGANIZER;CN="Business of Counselling":MAILTO:info@businessofcounselling.com
END:VEVENT
BEGIN:VEVENT
DTSTART;TZID=UTC:20200731T130000
DTEND;TZID=UTC:20200731T150000
DTSTAMP:20260421T130509
CREATED:20200708T161633Z
LAST-MODIFIED:20200708T161633Z
UID:1762-1596200400-1596207600@www.businessofcounselling.com
SUMMARY:Risk Assessments in Private Practice (BC05RA-Z011)
DESCRIPTION:Understand what a Risk Assessment is and how to effectively carry one out for your private practice. \nMore information: Risk Assessments in Private Practice
URL:https://www.businessofcounselling.com/event/risk-assessments-in-private-practice-bc05ra-z011/
LOCATION:Online Workshop (Zoom)
ORGANIZER;CN="Business of Counselling":MAILTO:info@businessofcounselling.com
END:VEVENT
BEGIN:VEVENT
DTSTART;TZID=UTC:20200728T130000
DTEND;TZID=UTC:20200728T150000
DTSTAMP:20260421T130509
CREATED:20200629T123734Z
LAST-MODIFIED:20200629T123734Z
UID:1558-1595941200-1595948400@www.businessofcounselling.com
SUMMARY:Dealing With Clients In Private Practice (BC08DC-Z001)
DESCRIPTION:From handling enquiries through to processing paperwork. \nFor more information: Dealing With Clients in Private Practice
URL:https://www.businessofcounselling.com/event/dealing-with-clients-in-private-practice-bc08dc-z001/
LOCATION:Online Workshop (Zoom)
ORGANIZER;CN="Business of Counselling":MAILTO:info@businessofcounselling.com
END:VEVENT
BEGIN:VEVENT
DTSTART;TZID=UTC:20200725T100000
DTEND;TZID=UTC:20200725T120000
DTSTAMP:20260421T130509
CREATED:20200708T161538Z
LAST-MODIFIED:20200708T161538Z
UID:1760-1595671200-1595678400@www.businessofcounselling.com
SUMMARY:Risk Assessments in Private Practice (BC05RA-Z010)
DESCRIPTION:Understand what a Risk Assessment is and how to effectively carry one out for your private practice. \nMore information: Risk Assessments in Private Practice
URL:https://www.businessofcounselling.com/event/risk-assessments-in-private-practice-bc05ra-z010/
LOCATION:Online Workshop (Zoom)
ORGANIZER;CN="Business of Counselling":MAILTO:info@businessofcounselling.com
END:VEVENT
BEGIN:VEVENT
DTSTART;TZID=UTC:20200724T130000
DTEND;TZID=UTC:20200724T150000
DTSTAMP:20260421T130509
CREATED:20200708T161448Z
LAST-MODIFIED:20200708T161448Z
UID:1758-1595595600-1595602800@www.businessofcounselling.com
SUMMARY:Risk Assessments in Private Practice (BC05RA-Z009)
DESCRIPTION:Understand what a Risk Assessment is and how to effectively carry one out for your private practice. \nMore information: Risk Assessments in Private Practice
URL:https://www.businessofcounselling.com/event/risk-assessments-in-private-practice-bc05ra-z009/
LOCATION:Online Workshop (Zoom)
ORGANIZER;CN="Business of Counselling":MAILTO:info@businessofcounselling.com
END:VEVENT
BEGIN:VEVENT
DTSTART;TZID=UTC:20200723T180000
DTEND;TZID=UTC:20200723T200000
DTSTAMP:20260421T130509
CREATED:20200708T161329Z
LAST-MODIFIED:20200708T161329Z
UID:1756-1595527200-1595534400@www.businessofcounselling.com
SUMMARY:Risk Assessments in Private Practice (BC05RA-Z008)
DESCRIPTION:Understand what a Risk Assessment is and how to effectively carry one out for your private practice. \nMore information: Risk Assessments in Private Practice
URL:https://www.businessofcounselling.com/event/risk-assessments-in-private-practice-bc05ra-z008/
LOCATION:Online Workshop (Zoom)
ORGANIZER;CN="Business of Counselling":MAILTO:info@businessofcounselling.com
END:VEVENT
BEGIN:VEVENT
DTSTART;TZID=UTC:20200721T130000
DTEND;TZID=UTC:20200721T150000
DTSTAMP:20260421T130509
CREATED:20200629T123614Z
LAST-MODIFIED:20200629T123614Z
UID:1556-1595336400-1595343600@www.businessofcounselling.com
SUMMARY:Being A Professional Counsellor (BC07PC-Z001)
DESCRIPTION:Looking at the legal\, ethical and professional obligations of being a professional counsellors / therapist in private practice. \nFor more information: Being A Professional Counsellor (BC07PC)
URL:https://www.businessofcounselling.com/event/being-a-professional-counsellor-bc07pc-z001/
LOCATION:Online Workshop (Zoom)
ORGANIZER;CN="Business of Counselling":MAILTO:info@businessofcounselling.com
END:VEVENT
BEGIN:VEVENT
DTSTART;TZID=UTC:20200717T120000
DTEND;TZID=UTC:20200717T163000
DTSTAMP:20260421T130509
CREATED:20200629T121635Z
LAST-MODIFIED:20200629T123159Z
UID:1552-1594987200-1595003400@www.businessofcounselling.com
SUMMARY:Business of Counselling (BC01BC -Z008)
DESCRIPTION:An online version of our Business of Counselling Workshop.  If you’re in the process of setting up your private practice\, or you’re newly established\, this is the workshop for you.  Designed to cover all the basics\, you’ll leave feeling confident and inspired. \nFor more information see: Business  of Counselling (BC01BC)
URL:https://www.businessofcounselling.com/event/business-of-counselling-bc01bc-z008/
LOCATION:Online Workshop (Zoom)
ORGANIZER;CN="Business of Counselling":MAILTO:info@businessofcounselling.com
END:VEVENT
END:VCALENDAR